BEGIN:VCALENDAR
VERSION:2.0
PRODID:-//Whoot//EN
METHOD:PUBLISH
BEGIN:VEVENT
UID:13eb4e7c-209a-485d-a8f5-4067c9c9fda5@whoot
DTSTAMP:20260425T135641Z
DTSTART:20260425T180000Z
DTEND:20260425T210000Z
SUMMARY:Live music with Revele and Paul
DESCRIPTION:Prepare to be amazed by Revele\, a multi-genre\, award-winning singer and songwriter\, accompanied by the incredibly talented pianist/keyboardist Paul Haller. Together\, they create a captivating musical experience that blends original songs\, blues\, jazz\, pop\, and R&B into something truly special.\nWhether you're a fan of smooth jazz or catchy pop hits\, Revele and Paul deliver with passion\, talent\, and energy that will leave you in awe. This dynamic duo is guaranteed to blow you away\, so don’t miss out on an unforgettable night of music.
LOCATION:Rico's Cafe and Wine Bar - 322 1/2 N Tejon St.
END:VEVENT
END:VCALENDAR