BEGIN:VCALENDAR
VERSION:2.0
PRODID:-//Whoot//EN
METHOD:PUBLISH
BEGIN:VEVENT
UID:176d3c40-992b-4e0a-a766-89fe2c3d37c2@whoot
DTSTAMP:20260425T135953Z
DTSTART:20260426T090000Z
DTEND:20260426T120000Z
SUMMARY:3Days3Parks Volunteer - Ute Valley Park
DESCRIPTION:• 3Days3Parks\n\n• The weekend following Earth Day\, the city is hosting a three-day\, three-park\, citywide volunteer effort to support park and trail improvements across Colorado Springs.\n\n• Sunday - Ute Valley Park: Trash cleanup\, weed removal\, and trail restoration\n\n• Times\, locations\, and additional information on each cleanup can be found on the website. [Register here.](https://3days3parks.org/volunteer/)
LOCATION:Eagleview Middle School parking lot by the track · 1325 Vindicator Dr
URL:https://3days3parks.org/volunteer/
END:VEVENT
END:VCALENDAR