BEGIN:VCALENDAR
VERSION:2.0
PRODID:-//Whoot//EN
METHOD:PUBLISH
BEGIN:VEVENT
UID:219ef340-2f8e-4cfb-9b72-773269d1dbc1@whoot
DTSTAMP:20260425T135544Z
DTSTART:20260428T110000Z
DTEND:20260428T140000Z
SUMMARY:Downtown Community Cleanup Day - Businesses
DESCRIPTION:• Downtown Community Cleanup Day\n\n• This one's for local businesses! The Downtown Partnership of Colorado Springs’ Clean and Safe Downtown Ambassadors and Richard’s Rubbish Roundup are inviting local businesses to join them to clean and improve outdoor areas downtown from 11:00 a.m. to 2:00 p.m.\n\n• Businesses can RSVP at [Pat@DowntownCS.com](mailto:Pat@DowntownCS.com).
LOCATION:Downtown Colorado Springs
END:VEVENT
END:VCALENDAR