BEGIN:VCALENDAR
VERSION:2.0
PRODID:-//Whoot//EN
METHOD:PUBLISH
BEGIN:VEVENT
UID:22861205-2b7b-42af-8a89-b567b0d722d1@whoot
DTSTAMP:20260425T140327Z
DTSTART:20260508T193000Z
DTEND:20260509T210000Z
SUMMARY:Star Wars: The Empire Strikes Back Philharmonic Concert
DESCRIPTION:Join the Philharmonic for Star Wars: The Empire Strikes Back in concert\, as they perform John Williams' Grammy-winning score live alongside the epic film on the big screen.\n\nTickets: $54-$132
LOCATION:Pikes Peak Center for the Performing Arts 190 S Cascade
URL:https://csphilharmonic.org/event/star-wars-empire-strikes-back/
END:VEVENT
END:VCALENDAR