BEGIN:VCALENDAR
VERSION:2.0
PRODID:-//Whoot//EN
METHOD:PUBLISH
BEGIN:VEVENT
UID:2b843f93-1816-4804-a027-3dbf9808613a@whoot
DTSTAMP:20260420T023843Z
DTSTART:20260425T100000Z
DTEND:20260425T160000Z
SUMMARY:Palmer HS 150th Celebration
DESCRIPTION:FREE and open to the public
LOCATION:301 N Nevada Ave\, COS 80903
URL:https://palmer.d11.org/
END:VEVENT
END:VCALENDAR