BEGIN:VCALENDAR
VERSION:2.0
PRODID:-//Whoot//EN
METHOD:PUBLISH
BEGIN:VEVENT
UID:374ab03b-4b01-41f7-b594-c1d13ff875ce@whoot
DTSTAMP:20260420T023415Z
DTSTART:20260428T163000Z
DTEND:20260428T183000Z
SUMMARY:Public Open House - Templeton Gap Levee Project
DESCRIPTION:Residents will have a chance to ask questions and share feedback during two open houses for the Templeton Gap levee project aimed at **reducing flood risk and meeting updated FEMA requirements**. Because new flood maps are being developed for *El Paso County*\, **older infrastructure like this levee now needs upgrades to stay in compliance and continue protecting surrounding neighborhoods**.
LOCATION:Colorado Springs Senior Ctr\, 1514 N Hancock Ave
URL:https://coloradosprings.gov/TempletonGapLevee
END:VEVENT
END:VCALENDAR