BEGIN:VCALENDAR
VERSION:2.0
PRODID:-//Whoot//EN
METHOD:PUBLISH
BEGIN:VEVENT
UID:457b6e47-8aee-420d-ad17-5136a7a59270@whoot
DTSTAMP:20260423T143715Z
DTSTART:20260424T190000Z
DTEND:20260424T210000Z
SUMMARY:Spring Musical: Mean Girls - FREE Admission
DESCRIPTION:Spring Musical: Mean Girls!\nGet ready for the most fetch show of the season! The Upper School is thrilled to present Mean Girls: The Musical this spring\, and you're invited to experience all the drama\, laughs\, and unforgettable music that made this Broadway sensation a hit.\n\nWatch as Cady Heron navigates the treacherous halls of North Shore High\, where the Plastics reign supreme and the cafeteria is a battlefield. With a hilarious musical by Tina Fey\, catchy songs by Jeff Richmond and Nell Benjamin\, and a talented cast of CSS student performers ready to bring this iconic story to life\, this is one musical you won't want to miss.\n\nMean Girls delivers non-stop entertainment for audiences of all ages. FREE and OPEN to the PUBLIC. Louisa Performing Arts Center at The Colorado Springs School. Refreshments for sale that support the theatre program.
LOCATION:The Colorado Springs School\, Upper School 21 Broadmoor Ave\, COS
URL:https://www.facebook.com/share/1Kyj2bKEmg/
END:VEVENT
END:VCALENDAR