BEGIN:VCALENDAR
VERSION:2.0
PRODID:-//Whoot//EN
METHOD:PUBLISH
BEGIN:VEVENT
UID:533e791e-e1a5-41c6-83cd-fc120dc2495e@whoot
DTSTAMP:20260423T144009Z
DTSTART:20260424T080000Z
DTEND:20260424T110000Z
SUMMARY:3Days3Parks Volunteer - Blodgett Open Space
DESCRIPTION:• 3Days3Parks\n\n• The weekend following Earth Day\, the city is hosting a three-day\, three-park\, citywide volunteer effort to support park and trail improvements across Colorado Springs.\n\n• Friday - Blodgett Open Space: Trash cleanup\, dog waste removal\, weed removal\n\n• Saturday - Palmer Park: Yucca Flats rogue trail closure and restoration\n\n• Sunday - Ute Valley Park: Trash cleanup\, weed removal\, and trail restoration\n\n• Times\, locations\, and additional information on each cleanup can be found on the website. [Register here.](https://3days3parks.org/volunteer/)
LOCATION:North Blodgett Loop Trailhead · 3786 W Woodmen Rd
URL:https://3days3parks.org/volunteer/
END:VEVENT
END:VCALENDAR