BEGIN:VCALENDAR
VERSION:2.0
PRODID:-//Whoot//EN
METHOD:PUBLISH
BEGIN:VEVENT
UID:7c7b2492-6e67-431b-a880-bd16ec938a21@whoot
DTSTAMP:20260420T023657Z
DTSTART:20260429T100000Z
DTEND:20260429T130000Z
SUMMARY:Group Hike!
DESCRIPTION:Take a hike with Xtreme Bookings! Join us for a fun and relaxing hike at Seven Bridges just 15 minutes from Downtown Colorado Springs! Bring your friends and coworkers and enjoy some time away from the office this week! 
LOCATION:
URL:https://docs.google.com/forms/d/e/1FAIpQLSegtP3X_0UBxUo-XSAtWYreY5SvoT5HAu9w27m0JjBVllN81g/viewform
END:VEVENT
END:VCALENDAR