BEGIN:VCALENDAR
VERSION:2.0
PRODID:-//Whoot//EN
METHOD:PUBLISH
BEGIN:VEVENT
UID:a59eaeb7-91c0-41d7-a653-1b40f8a12463@whoot
DTSTAMP:20260425T140230Z
DTSTART:20260503T140000Z
DTEND:20260503T180000Z
SUMMARY:Tejon Street Block Party
DESCRIPTION:Poor Richard's is closing down Tejon Street between Platte and Boulder for a massive block party celebrating the legacy of Richard and Patricia as they pass the torch. Meet the new owners\, Joe and Sarah while you enjoy live music\, free pizza\, distinguished speakers\, family-friendly activities\, and more. The festivities kick off at 2 PM\, so come be part of a truly unforgettable day!
LOCATION:320 N. Tejon Street - Poor Richard's Downtown
END:VEVENT
END:VCALENDAR