BEGIN:VCALENDAR
VERSION:2.0
PRODID:-//Whoot//EN
METHOD:PUBLISH
BEGIN:VEVENT
UID:b7627b25-4f5a-4d55-9d59-cfbc0ee5c0d8@whoot
DTSTAMP:20260424T141951Z
DTSTART:20260424T150000Z
DTEND:20260424T170000Z
SUMMARY:Open House - Palmer Lake Library
DESCRIPTION:The Palmer Lake Library will have lawn games on the greens\, food in the town hall and feature artwork from one of its volunteers. The Library is also partnering with the town’s volunteer fire department with a display. Families can read a story on the Palmer Lake Greens. There will be face-painting\, music\, and a town scavenger hunt (with a chance to win a $75 gift card to Calvert’s Market in Palmer Lake) around the green.
LOCATION:Palmer Lake Library 66 Lower Glenway \, Palmer Lake\, CO
URL:https://www.facebook.com/share/1CcUoKN47A/
END:VEVENT
END:VCALENDAR