BEGIN:VCALENDAR
VERSION:2.0
PRODID:-//Whoot//EN
METHOD:PUBLISH
BEGIN:VEVENT
UID:c3993bfb-55d6-4bac-b83e-77ddd17aaaee@whoot
DTSTAMP:20260421T153943Z
DTSTART:20260421T193000Z
DTEND:20260421T210000Z
SUMMARY:🎶 UCCS Mariachi Ensemble — Premier Concert FREE
DESCRIPTION:UCCS's brand-new mariachi program makes its stage debut alongside Pueblo's Mariachi Diamante. A cultural celebration not to be missed and it's free! 🌺
LOCATION:Chapman Foundations Recital Hall\, UCCS
URL:https://tickets.entcenterforthearts.org/5800/5924
END:VEVENT
END:VCALENDAR