BEGIN:VCALENDAR
VERSION:2.0
PRODID:-//Whoot//EN
METHOD:PUBLISH
BEGIN:VEVENT
UID:d62511d6-ee8a-4134-ad99-5cba1f898bd1@whoot
DTSTAMP:20260425T140144Z
DTSTART:20260502T090000Z
DTEND:20260502T160000Z
SUMMARY:Great American Cleanup - Various Opportunities/Locations: pls register
DESCRIPTION:• Great American Cleanup\n\n• The Fountain Creek Watershed District and Keep Colorado Springs Beautiful are hosting cleanup events as part of a nationwide community improvement program.\n\n• There is a mix of both public and private cleanups. [You can register here.](https://fountaincreekwatersheddistrict.volunteerlocal.com/volunteer/?id=111062)
LOCATION:
URL:https://fountaincreekwatersheddistrict.volunteerlocal.com/volunteer/?id=111062
END:VEVENT
END:VCALENDAR