BEGIN:VCALENDAR
VERSION:2.0
PRODID:-//Whoot//EN
METHOD:PUBLISH
BEGIN:VEVENT
UID:d988f8bf-e3c8-4451-b3f0-2291d2e57f5e@whoot
DTSTAMP:20260423T143613Z
DTSTART:20260425T090000Z
DTEND:20260425T123000Z
SUMMARY:3Days3Parks Volunteer - Palmer Park
DESCRIPTION:• 3Days3Parks\n\n• The weekend following Earth Day\, the city is hosting a three-day\, three-park\, citywide volunteer effort to support park and trail improvements across Colorado Springs.\n\n• Saturday - Palmer Park: Yucca Flats rogue trail closure and restoration\n\n• Sunday - Ute Valley Park: Trash cleanup\, weed removal\, and trail restoration\n\n• Times\, locations\, and additional information on each cleanup can be found on the website. [Register here.](https://3days3parks.org/volunteer/)
LOCATION:Lot 21 at Ute Crest and Yucca · leash-free lot
URL:https://3days3parks.org/volunteer/
END:VEVENT
END:VCALENDAR