BEGIN:VCALENDAR
VERSION:2.0
PRODID:-//Whoot//EN
METHOD:PUBLISH
BEGIN:VEVENT
UID:dbe0a1ac-522a-46ad-9e2c-86279b7356e9@whoot
DTSTAMP:20260420T024048Z
DTSTART:20260426T050000Z
DTEND:20260426T120000Z
SUMMARY:Motorless Morning at Garden of the Gods!
DESCRIPTION:Experience a free\, family-friendly Motorless Morning at Garden of the Gods!\n\nJoin us Sunday\, April 26\, from 5 a.m. to noon for a unique\, car-free experience in one of Colorado Springs’ most iconic parks. Walk\, bike\, skate\, or roll through the park at your own pace and enjoy the scenery like never before.\n\nPlease follow posted slow zones and one-way routes to keep everyone safe.\n\nParking is easy! Leave your car at one of the following locations:\n- Garden of the Gods Visitor and Nature Center\n- Garden of the Gods Trading Post\n- Overflow parking at Rock Ledge Ranch Historic Site\n\nDesignated parking for persons with disabilities is available in the overflow lot. An accessible vehicle into the main parking lot will be available in the overflow lot upon request on Motorless Morning for those guests who need it.\n\nAll park visitors will have access to accessible routes into and throughout the park\, and the City will permit the use of other power-driven mobility devices (OPDMD)\, per its OPDMD policy.\n\nGet full details: [**https://coloradosprings.gov/motorlessmorning**](https://coloradosprings.gov/motorlessmorning)\n\nDon’t miss this special chance to explore Garden of the Gods without traffic!
LOCATION:Garden of the Gods
URL:https://coloradosprings.gov/motorlessmorning
END:VEVENT
END:VCALENDAR