BEGIN:VCALENDAR
VERSION:2.0
PRODID:-//Whoot//EN
METHOD:PUBLISH
BEGIN:VEVENT
UID:e59f0d29-7ad6-4867-b787-b7b906cb37a1@whoot
DTSTAMP:20260420T192759Z
DTSTART:20260425T193000Z
DTEND:20260425T220000Z
SUMMARY:Comedy Night with Sam Adams\, Oxymorons
DESCRIPTION:An evening of laughter featuring Sam Adams and the Oxymorons performing live at the Phil Long Music Hall. $19-$38\n\n[More Info](https://www.tixr.com/groups/phillongmusichall/events/comedy-night-with-sam-adams-oxymorons-177262)
LOCATION:Phil Long Music Hall
URL:https://www.tixr.com/groups/phillongmusichall/events/comedy-night-with-sam-adams-oxymorons-177262
END:VEVENT
END:VCALENDAR