BEGIN:VCALENDAR
VERSION:2.0
PRODID:-//Whoot//EN
METHOD:PUBLISH
BEGIN:VEVENT
UID:eb797830-9e18-4fbd-926f-8e96dd3dce2c@whoot
DTSTAMP:20260421T153641Z
DTSTART:20260424T090000Z
DTEND:20260424T140000Z
SUMMARY:Arbor Day Celebration
DESCRIPTION:Join City Forestry\, City Parks\, Recreation & Cultural Services\, the Colorado State Forest Service and Mayor Yemi for an Arbor Day celebration and ceremonial tree planting at Van Diest Park from 10:30-11*. \n\nTree Planting\n\nIn addition to the ceremonial tree planting\, City Forestry will be planting 49 trees in Van Diest Park to commemorate 49 years of being a Tree City USA city! Tree planting will take place throughout the day from 9 a.m.-2p.m.\, so stop by any time and say hi to our City Forestry staff\, and volunteers from Carmel Elementary School who will be helping with the planting!
LOCATION:Van Diest Park 1520 Chelton Rd\, Colorado Springs\, CO 80910
URL:https://coloradosprings.gov/node/163227
END:VEVENT
END:VCALENDAR