BEGIN:VCALENDAR
VERSION:2.0
PRODID:-//Whoot//EN
METHOD:PUBLISH
BEGIN:VEVENT
UID:efbf9f19-f97e-4384-bbb2-fc968e440d76@whoot
DTSTAMP:20260420T023748Z
DTSTART:20260428T173000Z
DTEND:20260428T200000Z
SUMMARY:Power Connectors: The Art of Connection
DESCRIPTION:OPEN to all and FREE to attend.\n\nThe Art of Connection\n\nThis month we’re bringing something a little different into the room.\n\nFor April’s 4th Tuesday event\, local artists will be joining us to showcase their work alongside the Power Connectors community.\n\nColorado Springs has an incredible creative scene\, but many artists and business owners don’t often cross paths. This night is about bringing those worlds together.\n\nArtists will have their work displayed throughout the space\, giving attendees the chance to meet the creators\, learn about their work\, and even take home a piece if something speaks to them.\n\nYou’ll still find the same welcoming Power Connectors environment built around conversation\, introductions\, and genuine connection.\n\nThis month we’re just adding a little more creativity to the mix.\n\nCome meet the artists.\n\nSupport local talent.\n\nMake a few great connections along the way.\n\nBecause nobody achieves anything alone.
LOCATION:The Public House at The Alexander\, 3104 N Nevada
URL:https://www.facebook.com/share/15fwymUCFwe/
END:VEVENT
END:VCALENDAR